Workbook

Sheet Tema 1A
A1: TEMA | B1: AREA DI FORMACION | M1: TEMA
A2: 1A | B2: ORIENTACION RIBA MUNDO | F2: EDUCACION DI ARTE | M2: 1A | N2: HABILIDAD DI SIGLO 21
B3: FP | C3: HC | D3: NT | E3: MS | F3: Baile | G3: Musica | H3: Arte visual | I3: Teatro | J3: Media | N3: Comunica | O3: Pensamento computacional | P3: Pensa creativo | Q3: Habilidad basico di ICT | R3: Habilidad di informacion | S3: Pensa critico | T3: Conocemento di medio di comunicacion | U3: Pensa pa soluciona y trata problema | V3: Traha hunto | W3: Habilidad social y cultural | X3: Autoregulacion
A4: ACTIVIDAD
A5: Inicial
A6: 1.1
A7: 1.2
A8: 1.3 | M8: Actividad
A9: 1.4 | M9: Inicial
A10: 1.5 | M10: 1.1
A11: 1.6 | M11: 1.2
A12: 1.7 | M12: 1.3
A13: 1.8 | M13: 1.4
A14: 1.9 | M14: 1.5
A15: 2.1 | M15: 1.6
A16: 2.2 | M16: 1.7
A17: 2.3 | M17: 1.8
A18: 2.4 | M18: 1.9
A19: 2.5 | M19: 2.1
A20: 2.6 | M20: 2.2
A21: 2.7 | M21: 2.3
... A39: 5.6 | M39: 5.2
A40: Final | M40: 5.3
A41: TOTAL | B41: =SUM(B5:B40) -> 0 | C41: =SUM(C5:C40) -> 0 | D41: =SUM(D5:D40) -> 0 | E41: =SUM(E5:E40) -> 0 | F41: =SUM(F5:F40) -> 0 | G41: =SUM(G5:G40) -> 0 | H41: =SUM(H5:H40) -> 0 | I41: =SUM(I5:I40) -> 0 | J41: =SUM(J5:J40) -> 0 | M41: 5.4
M42: 5.5
M43: 5.6
M44: Final
M45: TOTAL | N45: =SUM(N9:N44) -> 0 | O45: =SUM(O9:O44) -> 0 | P45: =SUM(P9:P44) -> 0 | Q45: =SUM(Q9:Q44) -> 0 | R45: =SUM(R9:R44) -> 0 | S45: =SUM(S9:S44) -> 0 | T45: =SUM(T9:T44) -> 0 | U45: =SUM(U9:U44) -> 0 | ... X45: =SUM(X9:X44) -> 0

Sheet Tema 1B
A1: TEMA | B1: AREA DI FORMACION | M1: TEMA
A2: 1B | B2: ORIENTACION RIBA MUNDO | F2: EDUCACION DI ARTE | M2: 1B | N2: HABILIDAD DI SIGLO 21
B3: FP | C3: HC | D3: NT | E3: MS | F3: Baile | G3: Musica | H3: Arte visual | I3: Teatro | J3: Media | N3: Comunica | O3: Pensamento computacional | P3: Pensa creativo | Q3: Habilidad basico di ICT | R3: Habilidad di informacion | S3: Pensa critico | T3: Conocemento di medio di comunicacion | U3: Pensa pa soluciona y trata problema | V3: Traha hunto | W3: Habilidad social y cultural | X3: Autoregulacion
A4: ACTIVIDAD
A5: Inicial
A6: 1.1
A7: 1.2
A8: 1.3 | M8: Actividad
A9: 1.4 | M9: Inicial
A10: 1.5 | M10: 1.1
A11: 2.1 | M11: 1.2
A12: 2.2 | M12: 1.3
A13: 2.3 | M13: 1.4
A14: 2.4 | M14: 1.5
A15: 2.5 | M15: 2.1
A16: 3.1 | M16: 2.2
A17: 3.2 | M17: 2.3
A18: 3.3 | M18: 2.4
A19: 3.4 | M19: 2.5
A20: 3.5 | M20: 3.1
A21: 3.6 | M21: 3.2
... A31: 5.5 | M31: 5.1
A32: Final | M32: 5.2
A33: TOTAL | B33: =SUM(B5:B32) -> 0 | C33: =SUM(C5:C32) -> 0 | D33: =SUM(D5:D32) -> 0 | E33: =SUM(E5:E32) -> 0 | F33: =SUM(F5:F32) -> 0 | G33: =SUM(G5:G32) -> 0 | H33: =SUM(H5:H32) -> 0 | I33: =SUM(I5:I32) -> 0 | J33: =SUM(J5:J32) -> 0 | M33: 5.3
M34: 5.4
M35: 5.5
M36: Final
M37: TOTAL | N37: =SUM(N9:N36) -> 0 | O37: =SUM(O9:O36) -> 0 | P37: =SUM(P9:P36) -> 0 | Q37: =SUM(Q9:Q36) -> 0 | R37: =SUM(R9:R36) -> 0 | S37: =SUM(S9:S36) -> 0 | T37: =SUM(T9:T36) -> 0 | U37: =SUM(U9:U36) -> 0 | ... X37: =SUM(X9:X36) -> 0

Sheet Tema 2A
A1: TEMA | B1: AREA DI FORMACION | M1: TEMA
A2: 2A | B2: ORIENTACION RIBA MUNDO | F2: EDUCACION DI ARTE | M2: 2A | N2: HABILIDAD DI SIGLO 21
B3: FP | C3: HC | D3: NT | E3: MS | F3: Baile | G3: Musica | H3: Arte visual | I3: Teatro | J3: Media | N3: Comunica | O3: Pensamento computacional | P3: Pensa creativo | Q3: Habilidad basico di ICT | R3: Habilidad di informacion | S3: Pensa critico | T3: Conocemento di medio di comunicacion | U3: Pensa pa soluciona y trata problema | V3: Traha hunto | W3: Habilidad social y cultural | X3: Autoregulacion
A4: ACTIVIDAD
A5: Inicial
A6: 1.1
A7: 1.2
A8: 1.3 | M8: Actividad
A9: 1.4 | M9: Inicial
A10: 1.5 | M10: 1.1
A11: 1.6 | M11: 1.2
A12: 1.7 | M12: 1.3
A13: 1.8 | M13: 1.4
A14: 1.9 | M14: 1.5
A15: 1.1 | M15: 1.6
A16: 2.1 | M16: 1.7
A17: 2.2 | M17: 1.8
A18: 2.3 | M18: 1.9
A19: 2.4 | M19: 1.1
A20: 2.5 | M20: 2.1
A21: 2.6 | M21: 2.2
... A45: 5.7 | M45: 5.3
A46: Final | M46: 5.4
A47: TOTAL | B47: =SUM(B5:B46) -> 0 | C47: =SUM(C5:C46) -> 0 | D47: =SUM(D5:D46) -> 0 | E47: =SUM(E5:E46) -> 0 | F47: =SUM(F5:F46) -> 0 | G47: =SUM(G5:G46) -> 0 | H47: =SUM(H5:H46) -> 0 | I47: =SUM(I5:I46) -> 0 | J47: =SUM(J5:J46) -> 0 | M47: 5.5
M48: 5.6
M49: 5.7
M50: Final
M51: TOTAL | N51: =SUM(N9:N50) -> 0 | O51: =SUM(O9:O50) -> 0 | P51: =SUM(P9:P50) -> 0 | Q51: =SUM(Q9:Q50) -> 0 | R51: =SUM(R9:R50) -> 0 | S51: =SUM(S9:S50) -> 0 | T51: =SUM(T9:T50) -> 0 | U51: =SUM(U9:U50) -> 0 | ... X51: =SUM(X9:X50) -> 0

Sheet Tema 2B
A1: TEMA | B1: AREA DI FORMACION | M1: TEMA
A2: 2B | B2: ORIENTACION RIBA MUNDO | F2: EDUCACION DI ARTE | M2: 2B | N2: HABILIDAD DI SIGLO 21
B3: FP | C3: HC | D3: NT | E3: MS | F3: Baile | G3: Musica | H3: Arte visual | I3: Teatro | J3: Media | N3: Comunica | O3: Pensamento computacional | P3: Pensa creativo | Q3: Habilidad basico di ICT | R3: Habilidad di informacion | S3: Pensa critico | T3: Conocemento di medio di comunicacion | U3: Pensa pa soluciona y trata problema | V3: Traha hunto | W3: Habilidad social y cultural | X3: Autoregulacion
A4: ACTIVIDAD
A5: Inicial
A6: 1.1
A7: 1.2
A8: 1.3 | M8: Actividad
A9: 1.4 | M9: Inicial
A10: 1.5 | M10: 1.1
A11: 1.6 | M11: 1.2
A12: 1.7 | M12: 1.3
A13: 1.8 | M13: 1.4
A14: 1.9 | M14: 1.5
A15: 2.1 | M15: 1.6
A16: 2.2 | M16: 1.7
A17: 2.3 | M17: 1.8
A18: 2.4 | M18: 1.9
A19: 2.5 | M19: 2.1
A20: 2.6 | M20: 2.2
A21: 2.7 | M21: 2.3
... A38: 5.6 | M38: 5.2
A39: Final | M39: 5.3
A40: TOTAL | B40: =SUM(B5:B39) -> 0 | C40: =SUM(C5:C39) -> 0 | D40: =SUM(D5:D39) -> 0 | E40: =SUM(E5:E39) -> 0 | F40: =SUM(F5:F39) -> 0 | G40: =SUM(G5:G39) -> 0 | H40: =SUM(H5:H39) -> 0 | I40: =SUM(I5:I39) -> 0 | J40: =SUM(J5:J39) -> 0 | M40: 5.4
M41: 5.5
M42: 5.6
M43: Final
M44: TOTAL | N44: =SUM(N9:N43) -> 0 | O44: =SUM(O9:O43) -> 0 | P44: =SUM(P9:P43) -> 0 | Q44: =SUM(Q9:Q43) -> 0 | R44: =SUM(R9:R43) -> 0 | S44: =SUM(S9:S43) -> 0 | T44: =SUM(T9:T43) -> 0 | U44: =SUM(U9:U43) -> 0 | ... X44: =SUM(X9:X43) -> 0

Sheet MT1
A1: TEMA | B1: AREA DI FORMACION | M1: TEMA
A2: MT1 | B2: ORIENTACION RIBA MUNDO | F2: EDUCACION DI ARTE | M2: MT1 | N2: HABILIDAD DI SIGLO 21
B3: FP | C3: HC | D3: NT | E3: MS | F3: Baile | G3: Musica | H3: Arte visual | I3: Teatro | J3: Media | N3: Comunica | O3: Pensamento computacional | P3: Pensa creativo | Q3: Habilidad basico di ICT | R3: Habilidad di informacion | S3: Pensa critico | T3: Conocemento di medio di comunicacion | U3: Pensa pa soluciona y trata problema | V3: Traha hunto | W3: Habilidad social y cultural | X3: Autoregulacion
A4: ACTIVIDAD
A5: Inicial
A6: 1.1
A7: 1.2
A8: 1.3 | M8: Actividad
A9: 1.4 | M9: Inicial
A10: 1.5 | M10: 1.1
A11: 1.6 | M11: 1.2
A12: 1.7 | M12: 1.3
A13: 1.8 | M13: 1.4
A14: 1.9 | M14: 1.5
A15: 1.1 | M15: 1.6
A16: 1.11 | M16: 1.7
A17: 2.1 | M17: 1.8
A18: 2.2 | M18: 1.9
A19: 2.3 | M19: 1.1
A20: 2.4 | M20: 1.11
A21: 2.5 | M21: 2.1
... A27: 2.11 | M27: 2.7
A28: Final | M28: 2.8
A29: TOTAL | B29: =SUM(B5:B28) -> 0 | C29: =SUM(C5:C28) -> 0 | D29: =SUM(D5:D28) -> 0 | E29: =SUM(E5:E28) -> 0 | F29: =SUM(F5:F28) -> 0 | G29: =SUM(G5:G28) -> 0 | H29: =SUM(H5:H28) -> 0 | I29: =SUM(I5:I28) -> 0 | J29: =SUM(J5:J28) -> 0 | M29: 2.9
M30: 2.1
M31: 2.11
M32: Final
M33: TOTAL | N33: =SUM(N9:N32) -> 0 | O33: =SUM(O9:O32) -> 0 | P33: =SUM(P9:P32) -> 0 | Q33: =SUM(Q9:Q32) -> 0 | R33: =SUM(R9:R32) -> 0 | S33: =SUM(S9:S32) -> 0 | T33: =SUM(T9:T32) -> 0 | U33: =SUM(U9:U32) -> 0 | ... X33: =SUM(X9:X32) -> 0

Sheet Tema 3A
A1: TEMA | B1: AREA DI FORMACION | M1: TEMA
A2: 3A | B2: ORIENTACION RIBA MUNDO | F2: EDUCACION DI ARTE | M2: 3A | N2: HABILIDAD DI SIGLO 21
B3: FP | C3: HC | D3: NT | E3: MS | F3: Baile | G3: Musica | H3: Arte visual | I3: Teatro | J3: Media | N3: Comunica | O3: Pensamento computacional | P3: Pensa creativo | Q3: Habilidad basico di ICT | R3: Habilidad di informacion | S3: Pensa critico | T3: Conocemento di medio di comunicacion | U3: Pensa pa soluciona y trata problema | V3: Traha hunto | W3: Habilidad social y cultural | X3: Autoregulacion
A4: ACTIVIDAD
A5: Inicial
A6: 1.1
A7: 1.2
A8: 1.3 | M8: Actividad
A9: 1.4 | M9: Inicial
A10: 1.5 | M10: 1.1
A11: 2.1 | M11: 1.2
A12: 2.2 | M12: 1.3
A13: 2.3 | M13: 1.4
A14: 2.4 | M14: 1.5
A15: 2.5 | M15: 2.1
A16: 3.1 | M16: 2.2
A17: 3.2 | M17: 2.3
A18: 3.3 | M18: 2.4
A19: 3.4 | M19: 2.5
A20: 3.5 | M20: 3.1
A21: 4.1 | M21: 3.2
... A33: 5.7 | M33: 5.3
A34: Final | M34: 5.4
A35: TOTAL | B35: =SUM(B5:B34) -> 0 | C35: =SUM(C5:C34) -> 0 | D35: =SUM(D5:D34) -> 0 | E35: =SUM(E5:E34) -> 0 | F35: =SUM(F5:F34) -> 0 | G35: =SUM(G5:G34) -> 0 | H35: =SUM(H5:H34) -> 0 | I35: =SUM(I5:I34) -> 0 | J35: =SUM(J5:J34) -> 0 | M35: 5.5
M36: 5.6
M37: 5.7
M38: Final
M39: TOTAL | N39: =SUM(N9:N38) -> 0 | O39: =SUM(O9:O38) -> 0 | P39: =SUM(P9:P38) -> 0 | Q39: =SUM(Q9:Q38) -> 0 | R39: =SUM(R9:R38) -> 0 | S39: =SUM(S9:S38) -> 0 | T39: =SUM(T9:T38) -> 0 | U39: =SUM(U9:U38) -> 0 | ... X39: =SUM(X9:X38) -> 0

Sheet Tema 3B
A1: TEMA | B1: AREA DI FORMACION | M1: TEMA
A2: 3B | B2: ORIENTACION RIBA MUNDO | F2: EDUCACION DI ARTE | M2: 3B | N2: HABILIDAD DI SIGLO 21
B3: FP | C3: HC | D3: NT | E3: MS | F3: Baile | G3: Musica | H3: Arte visual | I3: Teatro | J3: Media | N3: Comunica | O3: Pensamento computacional | P3: Pensa creativo | Q3: Habilidad basico di ICT | R3: Habilidad di informacion | S3: Pensa critico | T3: Conocemento di medio di comunicacion | U3: Pensa pa soluciona y trata problema | V3: Traha hunto | W3: Habilidad social y cultural | X3: Autoregulacion
A4: ACTIVIDAD
A5: Inicial
A6: 1.1
A7: 1.2
A8: 1.3 | M8: Actividad
A9: 1.4 | M9: Inicial
A10: 1.5 | M10: 1.1
A11: 1.6 | M11: 1.2
A12: 1.7 | M12: 1.3
A13: 2.1 | M13: 1.4
A14: 2.2 | M14: 1.5
A15: 2.3 | M15: 1.6
A16: 2.4 | M16: 1.7
A17: 2.5 | M17: 2.1
A18: 3.1 | M18: 2.2
A19: 3.2 | M19: 2.3
A20: 3.3 | M20: 2.4
A21: 3.4 | M21: 2.5
A22: 3.5 | M22: 3.1
M23: 3.2
A24: 4.1 | M24: 3.3
A25: 4.2 | M25: 3.4
A26: 4.3 | M26: 3.5
A27: 4.4
A28: 4.5 | M28: 4.1
A29: 5.1 | M29: 4.2
A30: 5.2 | M30: 4.3
A31: 5.3 | M31: 4.4
A32: 5.4 | M32: 4.5
A33: 5.5 | M33: 5.1
A34: Final | M34: 5.2
A35: TOTAL | B35: =SUM(B5:B34) -> 0 | C35: =SUM(C5:C34) -> 0 | D35: =SUM(D5:D34) -> 0 | E35: =SUM(E5:E34) -> 0 | F35: =SUM(F5:F34) -> 0 | G35: =SUM(G5:G34) -> 0 | H35: =SUM(H5:H34) -> 0 | I35: =SUM(I5:I34) -> 0 | J35: =SUM(J5:J34) -> 0 | M35: 5.3
M36: 5.4
M37: 5.5
M38: Final
M39: TOTAL | N39: =SUM(N9:N38) -> 0 | O39: =SUM(O9:O38) -> 0 | P39: =SUM(P9:P38) -> 0 | Q39: =SUM(Q9:Q38) -> 0 | R39: =SUM(R9:R38) -> 0 | S39: =SUM(S9:S38) -> 0 | T39: =SUM(T9:T38) -> 0 | U39: =SUM(U9:U38) -> 0 | ... X39: =SUM(X9:X38) -> 0

Sheet MT2
A1: TEMA | B1: AREA DI FORMACION | M1: TEMA
A2: MT2 | B2: ORIENTACION RIBA MUNDO | F2: EDUCACION DI ARTE | M2: MT2 | N2: HABILIDAD DI SIGLO 21
B3: FP | C3: HC | D3: NT | E3: MS | F3: Baile | G3: Musica | H3: Arte visual | I3: Teatro | J3: Media | N3: Comunica | O3: Pensamento computacional | P3: Pensa creativo | Q3: Habilidad basico di ICT | R3: Habilidad di informacion | S3: Pensa critico | T3: Conocemento di medio di comunicacion | U3: Pensa pa soluciona y trata problema | V3: Traha hunto | W3: Habilidad social y cultural | X3: Autoregulacion
A4: ACTIVIDAD
A5: Inicial
A6: 1.1
A7: 1.2
A8: 1.3 | M8: Actividad
A9: 1.4 | M9: Inicial
A10: 1.5 | M10: 1.1
A11: 2.1 | M11: 1.2
A12: 2.2 | M12: 1.3
A13: 2.3 | M13: 1.4
A14: 2.4 | M14: 1.5
A15: 2.5 | M15: 2.1
A16: 2.6 | M16: 2.2
A17: 3.1 | M17: 2.3
A18: 3.2 | M18: 2.4
A19: 3.3 | M19: 2.5
A20: 3.4 | M20: 2.6
A21: 3.5 | M21: 3.1
... A28: 4.5 | M28: 4.1
A29: Final | M29: 4.2
A30: TOTAL | B30: =SUM(B5:B29) -> 0 | C30: =SUM(C5:C29) -> 0 | D30: =SUM(D5:D29) -> 0 | E30: =SUM(E5:E29) -> 0 | F30: =SUM(F5:F29) -> 0 | G30: =SUM(G5:G29) -> 0 | H30: =SUM(H5:H29) -> 0 | I30: =SUM(I5:I29) -> 0 | J30: =SUM(J5:J29) -> 0 | M30: 4.3
M31: 4.4
M32: 4.5
M33: Final
M34: TOTAL | N34: =SUM(N9:N33) -> 0 | O34: =SUM(O9:O33) -> 0 | P34: =SUM(P9:P33) -> 0 | Q34: =SUM(Q9:Q33) -> 0 | R34: =SUM(R9:R33) -> 0 | S34: =SUM(S9:S33) -> 0 | T34: =SUM(T9:T33) -> 0 | U34: =SUM(U9:U33) -> 0 | ... X34: =SUM(X9:X33) -> 0

Sheet Tema 4A
A1: TEMA | B1: AREA DI FORMACION | M1: TEMA
A2: 4A | B2: ORIENTACION RIBA MUNDO | F2: EDUCACION DI ARTE | M2: 4A | N2: HABILIDAD DI SIGLO 21
B3: FP | C3: HC | D3: NT | E3: MS | F3: Baile | G3: Musica | H3: Arte visual | I3: Teatro | J3: Media | N3: Comunica | O3: Pensamento computacional | P3: Pensa creativo | Q3: Habilidad basico di ICT | R3: Habilidad di informacion | S3: Pensa critico | T3: Conocemento di medio di comunicacion | U3: Pensa pa soluciona y trata problema | V3: Traha hunto | W3: Habilidad social y cultural | X3: Autoregulacion
A4: ACTIVIDAD
A5: Inicial
A6: 1.1
A7: 1.2
A8: 1.3 | M8: Actividad
A9: 1.4 | M9: Inicial
A10: 1.5 | M10: 1.1
A11: 1.6 | M11: 1.2
A12: 2.1 | M12: 1.3
A13: 2.2 | M13: 1.4
A14: 2.3 | M14: 1.5
A15: 2.4 | M15: 1.6
A16: 2.5 | M16: 2.1
A17: 2.6 | M17: 2.2
A18: 3.1 | M18: 2.3
A19: 3.2 | M19: 2.4
A20: 3.3 | M20: 2.5
A21: 3.4 | M21: 2.6
... A32: 5.5 | M32: 5.1
A33: Final | M33: 5.2
A34: TOTAL | B34: =SUM(B5:B33) -> 0 | C34: =SUM(C5:C33) -> 0 | D34: =SUM(D5:D33) -> 0 | E34: =SUM(E5:E33) -> 0 | F34: =SUM(F5:F33) -> 0 | G34: =SUM(G5:G33) -> 0 | H34: =SUM(H5:H33) -> 0 | I34: =SUM(I5:I33) -> 0 | J34: =SUM(J5:J33) -> 0 | M34: 5.3
M35: 5.4
M36: 5.5
M37: Final
M38: TOTAL | N38: =SUM(N9:N37) -> 0 | O38: =SUM(O9:O37) -> 0 | P38: =SUM(P9:P37) -> 0 | Q38: =SUM(Q9:Q37) -> 0 | R38: =SUM(R9:R37) -> 0 | S38: =SUM(S9:S37) -> 0 | T38: =SUM(T9:T37) -> 0 | U38: =SUM(U9:U37) -> 0 | ... X38: =SUM(X9:X37) -> 0

Sheet Tema 4B
A1: TEMA | B1: AREA DI FORMACION | M1: TEMA
A2: 4B | B2: ORIENTACION RIBA MUNDO | F2: EDUCACION DI ARTE | M2: 4B | N2: HABILIDAD DI SIGLO 21
B3: FP | C3: HC | D3: NT | E3: MS | F3: Baile | G3: Musica | H3: Arte visual | I3: Teatro | J3: Media | N3: Comunica | O3: Pensamento computacional | P3: Pensa creativo | Q3: Habilidad basico di ICT | R3: Habilidad di informacion | S3: Pensa critico | T3: Conocemento di medio di comunicacion | U3: Pensa pa soluciona y trata problema | V3: Traha hunto | W3: Habilidad social y cultural | X3: Autoregulacion
A4: ACTIVIDAD
A5: Inicial
A6: 1.1
A7: 1.2
A8: 1.3 | M8: Actividad
A9: 1.4 | M9: Inicial
A10: 1.5 | M10: 1.1
A11: 1.6 | M11: 1.2
A12: 2.1 | M12: 1.3
A13: 2.2 | M13: 1.4
A14: 2.3 | M14: 1.5
A15: 2.4 | M15: 1.6
A16: 2.5 | M16: 2.1
A17: 3.1 | M17: 2.2
A18: 3.2 | M18: 2.3
A19: 3.3 | M19: 2.4
A20: 3.4 | M20: 2.5
A21: 3.5 | M21: 3.1
... A38: 5.1 | M38: 5.6
A39: Final | M39: 5.7
A40: TOTAL | B40: =SUM(B5:B39) -> 0 | C40: =SUM(C5:C39) -> 0 | D40: =SUM(D5:D39) -> 0 | E40: =SUM(E5:E39) -> 0 | F40: =SUM(F5:F39) -> 0 | G40: =SUM(G5:G39) -> 0 | H40: =SUM(H5:H39) -> 0 | I40: =SUM(I5:I39) -> 0 | J40: =SUM(J5:J39) -> 0 | M40: 5.8
M41: 5.9
M42: 5.1
M43: Final
M44: TOTAL | N44: =SUM(N9:N43) -> 0 | O44: =SUM(O9:O43) -> 0 | P44: =SUM(P9:P43) -> 0 | Q44: =SUM(Q9:Q43) -> 0 | R44: =SUM(R9:R43) -> 0 | S44: =SUM(S9:S43) -> 0 | T44: =SUM(T9:T43) -> 0 | U44: =SUM(U9:U43) -> 0 | ... X44: =SUM(X9:X43) -> 0

Sheet Tema 5A
A1: TEMA | B1: AREA DI FORMACION | M1: TEMA
A2: 5A | B2: ORIENTACION RIBA MUNDO | F2: EDUCACION DI ARTE | M2: 5A | N2: HABILIDAD DI SIGLO 21
B3: FP | C3: HC | D3: NT | E3: MS | F3: Baile | G3: Musica | H3: Arte visual | I3: Teatro | J3: Media | N3: Comunica | O3: Pensamento computacional | P3: Pensa creativo | Q3: Habilidad basico di ICT | R3: Habilidad di informacion | S3: Pensa critico | T3: Conocemento di medio di comunicacion | U3: Pensa pa soluciona y trata problema | V3: Traha hunto | W3: Habilidad social y cultural | X3: Autoregulacion
A4: ACTIVIDAD
A5: Inicial
A6: 1.1
A7: 1.2
A8: 1.3 | M8: Actividad
A9: 1.4 | M9: Inicial
A10: 1.5 | M10: 1.1
A11: 1.6 | M11: 1.2
A12: 1.7 | M12: 1.3
A13: 1.8 | M13: 1.4
A14: 2.1 | M14: 1.5
A15: 2.2 | M15: 1.6
A16: 2.3 | M16: 1.7
A17: 2.4 | M17: 1.8
A18: 2.5 | M18: 2.1
A19: 3.1 | M19: 2.2
A20: 3.2 | M20: 2.3
A21: 3.3 | M21: 2.4
... A33: 5.5 | M33: 5.1
A34: Final | M34: 5.2
A35: TOTAL | B35: =SUM(B5:B34) -> 0 | C35: =SUM(C5:C34) -> 0 | D35: =SUM(D5:D34) -> 0 | E35: =SUM(E5:E34) -> 0 | F35: =SUM(F5:F34) -> 0 | G35: =SUM(G5:G34) -> 0 | H35: =SUM(H5:H34) -> 0 | I35: =SUM(I5:I34) -> 0 | J35: =SUM(J5:J34) -> 0 | M35: 5.3
M36: 5.4
M37: 5.5
M38: Final
M39: TOTAL | N39: =SUM(N9:N38) -> 0 | O39: =SUM(O9:O38) -> 0 | P39: =SUM(P9:P38) -> 0 | Q39: =SUM(Q9:Q38) -> 0 | R39: =SUM(R9:R38) -> 0 | S39: =SUM(S9:S38) -> 0 | T39: =SUM(T9:T38) -> 0 | U39: =SUM(U9:U38) -> 0 | ... X39: =SUM(X9:X38) -> 0

Sheet Tema 5B
A1: TEMA | B1: AREA DI FORMACION | M1: TEMA
A2: 5B | B2: ORIENTACION RIBA MUNDO | F2: EDUCACION DI ARTE | M2: 5B | N2: HABILIDAD DI SIGLO 21
B3: FP | C3: HC | D3: NT | E3: MS | F3: Baile | G3: Musica | H3: Arte visual | I3: Teatro | J3: Media | N3: Comunica | O3: Pensamento computacional | P3: Pensa creativo | Q3: Habilidad basico di ICT | R3: Habilidad di informacion | S3: Pensa critico | T3: Conocemento di medio di comunicacion | U3: Pensa pa soluciona y trata problema | V3: Traha hunto | W3: Habilidad social y cultural | X3: Autoregulacion
A4: ACTIVIDAD
A5: Inicial
A6: 1.1
A7: 1.2
A8: 1.3 | M8: Actividad
A9: 1.4 | M9: Inicial
A10: 1.5 | M10: 1.1
A11: 2.1 | M11: 1.2
A12: 2.2 | M12: 1.3
A13: 2.3 | M13: 1.4
A14: 2.4 | M14: 1.5
A15: 2.5 | M15: 2.1
A16: 2.6 | M16: 2.2
A17: 3.1 | M17: 2.3
A18: 3.2 | M18: 2.4
A19: 3.3 | M19: 2.5
A20: 3.4 | M20: 2.6
A21: 3.5 | M21: 3.1
... A33: 5.5 | M33: 5.1
A34: Final | M34: 5.2
A35: TOTAL | B35: =SUM(B5:B34) -> 0 | C35: =SUM(C5:C34) -> 0 | D35: =SUM(D5:D34) -> 0 | E35: =SUM(E5:E34) -> 0 | F35: =SUM(F5:F34) -> 0 | G35: =SUM(G5:G34) -> 0 | H35: =SUM(H5:H34) -> 0 | I35: =SUM(I5:I34) -> 0 | J35: =SUM(J5:J34) -> 0 | M35: 5.3
M36: 5.4
M37: 5.5
M38: Final
M39: TOTAL | N39: =SUM(N9:N38) -> 0 | O39: =SUM(O9:O38) -> 0 | P39: =SUM(P9:P38) -> 0 | Q39: =SUM(Q9:Q38) -> 0 | R39: =SUM(R9:R38) -> 0 | S39: =SUM(S9:S38) -> 0 | T39: =SUM(T9:T38) -> 0 | U39: =SUM(U9:U38) -> 0 | ... X39: =SUM(X9:X38) -> 0

Sheet Total di tur tema
B1: AREA DI FORMACION | N1: HABILIDAD DI SIGLO 21
B2: ORIENTACION RIBA MUNDO | F2: EDUCACION DI ARTE | N2: Comunica | O2: Pensamento computacional | P2: Pensa creativo | Q2: Habilidad basico di ICT | R2: Habilidad di informacion | S2: Pensa critico | T2: Conocemento di medio di comunicacion | U2: Pensa pa soluciona y trata problema | V2: Traha hunto | W2: Habilidad social y cultural | X2: Autoregulacion
B3: FP | C3: HC | D3: NT | E3: MS | F3: Baile | G3: Musica | H3: Arte visual | I3: Teatro | J3: Media
A4: TEMA
A5: 1A | B5: {='Tema 1A'!B41:J41} -> 0 | C5: 0 | D5: 0 | E5: 0 | F5: 0 | G5: 0 | H5: 0 | I5: 0 | J5: 0
A6: 1B | B6: {='Tema 1B'!B33:J33} -> 0 | C6: 0 | D6: 0 | E6: 0 | F6: 0 | G6: 0 | H6: 0 | I6: 0 | J6: 0
A7: 2A | B7: {='Tema 2A'!B47:J47} -> 0 | C7: 0 | D7: 0 | E7: 0 | F7: 0 | G7: 0 | H7: 0 | I7: 0 | J7: 0
A8: 2B | B8: {='Tema 2B'!B40:J40} -> 0 | C8: 0 | D8: 0 | E8: 0 | F8: 0 | G8: 0 | H8: 0 | I8: 0 | J8: 0 | M8: TEMA
A9: MT1 | B9: {='MT1'!B29:J29} -> 0 | C9: 0 | D9: 0 | E9: 0 | F9: 0 | G9: 0 | H9: 0 | I9: 0 | J9: 0 | M9: 1A | N9: {='Tema 1A'!N45:X45} -> 0 | O9: 0 | P9: 0 | Q9: 0 | R9: 0 | S9: 0 | T9: 0 | U9: 0 | V9: 0 | W9: 0 | X9: 0
A10: 3A | B10: {='Tema 3A'!B35:J35} -> 0 | C10: 0 | D10: 0 | E10: 0 | F10: 0 | G10: 0 | H10: 0 | I10: 0 | J10: 0 | M10: 1B | N10: {='Tema 1B'!N37:X37} -> 0 | O10: 0 | P10: 0 | Q10: 0 | R10: 0 | S10: 0 | T10: 0 | U10: 0 | V10: 0 | W10: 0 | X10: 0
A11: 3B | B11: {='Tema 3B'!B35:J35} -> 0 | C11: 0 | D11: 0 | E11: 0 | F11: 0 | G11: 0 | H11: 0 | I11: 0 | J11: 0 | M11: 2A | N11: {='Tema 2A'!N51:X51} -> 0 | O11: 0 | P11: 0 | Q11: 0 | R11: 0 | S11: 0 | T11: 0 | U11: 0 | V11: 0 | W11: 0 | X11: 0
A12: MT2 | B12: {='MT2'!B30:J30} -> 0 | C12: 0 | D12: 0 | E12: 0 | F12: 0 | G12: 0 | H12: 0 | I12: 0 | J12: 0 | M12: 2B | N12: {='Tema 2B'!N44:X44} -> 0 | O12: 0 | P12: 0 | Q12: 0 | R12: 0 | S12: 0 | T12: 0 | U12: 0 | V12: 0 | W12: 0 | X12: 0
A13: 4A | B13: {='Tema 4A'!B34:J34} -> 0 | C13: 0 | D13: 0 | E13: 0 | F13: 0 | G13: 0 | H13: 0 | I13: 0 | J13: 0 | M13: MT1 | N13: {='MT1'!N33:X33} -> 0 | O13: 0 | P13: 0 | Q13: 0 | R13: 0 | S13: 0 | T13: 0 | U13: 0 | V13: 0 | W13: 0 | X13: 0
A14: 4B | B14: {='Tema 4B'!B40:J40} -> 0 | C14: 0 | D14: 0 | E14: 0 | F14: 0 | G14: 0 | H14: 0 | I14: 0 | J14: 0 | M14: 3A | N14: {='Tema 3A'!N39:X39} -> 0 | O14: 0 | P14: 0 | Q14: 0 | R14: 0 | S14: 0 | T14: 0 | U14: 0 | V14: 0 | W14: 0 | X14: 0
A15: 5A | B15: {='Tema 5A'!B35:J35} -> 0 | C15: 0 | D15: 0 | E15: 0 | F15: 0 | G15: 0 | H15: 0 | I15: 0 | J15: 0 | M15: 3B | N15: {='Tema 3B'!N39:X39} -> 0 | O15: 0 | P15: 0 | Q15: 0 | R15: 0 | S15: 0 | T15: 0 | U15: 0 | V15: 0 | W15: 0 | X15: 0
A16: 5B | B16: {='Tema 5B'!B35:J35} -> 0 | C16: 0 | D16: 0 | E16: 0 | F16: 0 | G16: 0 | H16: 0 | I16: 0 | J16: 0 | M16: MT2 | N16: {='MT2'!N34:X34} -> 0 | O16: 0 | P16: 0 | Q16: 0 | R16: 0 | S16: 0 | T16: 0 | U16: 0 | V16: 0 | W16: 0 | X16: 0
A17: TOTAL | B17: =SUM(B5:B16) -> 0 | C17: =SUM(C5:C16) -> 0 | D17: =SUM(D5:D16) -> 0 | E17: =SUM(E5:E16) -> 0 | F17: =SUM(F5:F16) -> 0 | G17: =SUM(G5:G16) -> 0 | H17: =SUM(H5:H16) -> 0 | I17: =SUM(I5:I16) -> 0 | J17: =SUM(J5:J16) -> 0 | M17: 4A | N17: {='Tema 4A'!N38:X38} -> 0 | O17: 0 | P17: 0 | Q17: 0 | R17: 0 | S17: 0 | T17: 0 | U17: 0 | V17: 0 | W17: 0 | X17: 0
M18: 4B | N18: {='Tema 4B'!N44:X44} -> 0 | O18: 0 | P18: 0 | Q18: 0 | R18: 0 | S18: 0 | T18: 0 | U18: 0 | V18: 0 | W18: 0 | X18: 0
M19: 5A | N19: {='Tema 5A'!N39:X39} -> 0 | O19: 0 | P19: 0 | Q19: 0 | R19: 0 | S19: 0 | T19: 0 | U19: 0 | V19: 0 | W19: 0 | X19: 0
M20: 5B | N20: {='Tema 5B'!N39:X39} -> 0 | O20: 0 | P20: 0 | Q20: 0 | R20: 0 | S20: 0 | T20: 0 | U20: 0 | V20: 0 | W20: 0 | X20: 0
M21: TOTAL | N21: =SUM(N9:N20) -> 0 | O21: =SUM(O9:O20) -> 0 | P21: =SUM(P9:P20) -> 0 | Q21: =SUM(Q9:Q20) -> 0 | R21: =SUM(R9:R20) -> 0 | S21: =SUM(S9:S20) -> 0 | T21: =SUM(T9:T20) -> 0 | U21: =SUM(U9:U20) -> 0 | ... X21: =SUM(X9:X20) -> 0
